BEGIN:VCALENDAR
VERSION:2.0
PRODID:-//Airport west - ECPv6.15.20//NONSGML v1.0//EN
CALSCALE:GREGORIAN
METHOD:PUBLISH
X-ORIGINAL-URL:https://airportwest.ucavictas.org.au
X-WR-CALDESC:Events for Airport west
REFRESH-INTERVAL;VALUE=DURATION:PT1H
X-Robots-Tag:noindex
X-PUBLISHED-TTL:PT1H
BEGIN:VTIMEZONE
TZID:Australia/Melbourne
BEGIN:STANDARD
TZOFFSETFROM:+1100
TZOFFSETTO:+1000
TZNAME:AEST
DTSTART:20250405T160000
END:STANDARD
BEGIN:DAYLIGHT
TZOFFSETFROM:+1000
TZOFFSETTO:+1100
TZNAME:AEDT
DTSTART:20251004T160000
END:DAYLIGHT
BEGIN:STANDARD
TZOFFSETFROM:+1100
TZOFFSETTO:+1000
TZNAME:AEST
DTSTART:20260404T160000
END:STANDARD
BEGIN:DAYLIGHT
TZOFFSETFROM:+1000
TZOFFSETTO:+1100
TZNAME:AEDT
DTSTART:20261003T160000
END:DAYLIGHT
BEGIN:STANDARD
TZOFFSETFROM:+1100
TZOFFSETTO:+1000
TZNAME:AEST
DTSTART:20270403T160000
END:STANDARD
BEGIN:DAYLIGHT
TZOFFSETFROM:+1000
TZOFFSETTO:+1100
TZNAME:AEDT
DTSTART:20271002T160000
END:DAYLIGHT
END:VTIMEZONE
BEGIN:VEVENT
DTSTART;TZID=Australia/Melbourne:20260104T093000
DTEND;TZID=Australia/Melbourne:20260104T113000
DTSTAMP:20260420T073909
CREATED:20251121T030938Z
LAST-MODIFIED:20251210T031441Z
UID:798-1767519000-1767526200@airportwest.ucavictas.org.au
SUMMARY:Combined Service of Worship at St John's
DESCRIPTION:Sunday 4 th January\, 2026\, Airport West Uniting Church  \nwill be closed.   Please join us in worship at \nSt John’s Uniting Church\, Essendon\, commencing at 9:30 am.
URL:https://airportwest.ucavictas.org.au/event/combined-service-of-worship-at-st-johns/
LOCATION:St John’s UCA\, Cnr Buckley St & Mt Alexander Rd\, Essendon\, Victoria
END:VEVENT
END:VCALENDAR