BEGIN:VCALENDAR
VERSION:2.0
PRODID:-//Airport west - ECPv6.15.20//NONSGML v1.0//EN
CALSCALE:GREGORIAN
METHOD:PUBLISH
X-ORIGINAL-URL:https://airportwest.ucavictas.org.au
X-WR-CALDESC:Events for Airport west
REFRESH-INTERVAL;VALUE=DURATION:PT1H
X-Robots-Tag:noindex
X-PUBLISHED-TTL:PT1H
BEGIN:VTIMEZONE
TZID:Australia/Melbourne
BEGIN:STANDARD
TZOFFSETFROM:+1100
TZOFFSETTO:+1000
TZNAME:AEST
DTSTART:20250405T160000
END:STANDARD
BEGIN:DAYLIGHT
TZOFFSETFROM:+1000
TZOFFSETTO:+1100
TZNAME:AEDT
DTSTART:20251004T160000
END:DAYLIGHT
BEGIN:STANDARD
TZOFFSETFROM:+1100
TZOFFSETTO:+1000
TZNAME:AEST
DTSTART:20260404T160000
END:STANDARD
BEGIN:DAYLIGHT
TZOFFSETFROM:+1000
TZOFFSETTO:+1100
TZNAME:AEDT
DTSTART:20261003T160000
END:DAYLIGHT
BEGIN:STANDARD
TZOFFSETFROM:+1100
TZOFFSETTO:+1000
TZNAME:AEST
DTSTART:20270403T160000
END:STANDARD
BEGIN:DAYLIGHT
TZOFFSETFROM:+1000
TZOFFSETTO:+1100
TZNAME:AEDT
DTSTART:20271002T160000
END:DAYLIGHT
END:VTIMEZONE
BEGIN:VEVENT
DTSTART;TZID=Australia/Melbourne:20260329T100000
DTEND;TZID=Australia/Melbourne:20260329T113000
DTSTAMP:20260420T061116
CREATED:20260223T031951Z
LAST-MODIFIED:20260224T033837Z
UID:818-1774778400-1774783800@airportwest.ucavictas.org.au
SUMMARY:PALM SUNDAY SERVICE.
DESCRIPTION:Palm Sunday Service: 10 am on Sunday 29th March.
URL:https://airportwest.ucavictas.org.au/event/palm-sunday-service/
LOCATION:Airport West Uniting Church\, 72 Roberts Rd\, Airport West\, Victoria\, 3042\, Australia
ORGANIZER;CN="Ken Baker":MAILTO:chairperson3042@gmail.com
END:VEVENT
BEGIN:VEVENT
DTSTART;TZID=Australia/Melbourne:20260403T093000
DTEND;TZID=Australia/Melbourne:20260403T103000
DTSTAMP:20260420T061116
CREATED:20260222T102302Z
LAST-MODIFIED:20260224T034147Z
UID:821-1775208600-1775212200@airportwest.ucavictas.org.au
SUMMARY:GOOD FRIDAY SERVICE
DESCRIPTION:GOOD FRIDAY SERVICE. \nFriday April 3 rd .   9:30 am.
URL:https://airportwest.ucavictas.org.au/event/good-friday-service-2/
LOCATION:Airport West Uniting Church\, 72 Roberts Rd\, Airport West\, Victoria\, 3042\, Australia
ATTACH;FMTTYPE=image/jpeg:https://airportwest.ucavictas.org.au/wp-content/uploads/2026/02/Jesus-on-the-Cross.jpg
ORGANIZER;CN="Ken Baker":MAILTO:chairperson3042@gmail.com
END:VEVENT
BEGIN:VEVENT
DTSTART;TZID=Australia/Melbourne:20260405T100000
DTEND;TZID=Australia/Melbourne:20260405T113000
DTSTAMP:20260420T061116
CREATED:20260220T040043Z
LAST-MODIFIED:20260224T040330Z
UID:828-1775383200-1775388600@airportwest.ucavictas.org.au
SUMMARY:EASTER SUNDAY SERVICE
DESCRIPTION:Easter Sunday Service \n10 am Sunday 5 th April \nThe Lord has risen\, indeed!
URL:https://airportwest.ucavictas.org.au/event/easter-sunday-service-2/
LOCATION:Airport West Uniting Church\, 72 Roberts Rd\, Airport West\, Victoria\, 3042\, Australia
ORGANIZER;CN="Ken Baker":MAILTO:chairperson3042@gmail.com
END:VEVENT
BEGIN:VEVENT
DTSTART;TZID=Australia/Melbourne:20260427T133000
DTEND;TZID=Australia/Melbourne:20260427T153000
DTSTAMP:20260420T061116
CREATED:20260118T104449Z
LAST-MODIFIED:20260318T111451Z
UID:834-1777296600-1777303800@airportwest.ucavictas.org.au
SUMMARY:AMARAS FASHION PARADE AT AIRPORT WEST UCA
DESCRIPTION:When:  MONDAY 27 TH APRIL AT 1:30 PM \nWHERE: Airport West Uniting Church \n72 Roberts Rd\, Airport West. \nEntry Donation :  $10  Afternoon Tea provided. \nClassic Designs & Reasonable Prices. \nReply to Barbara: 0407 818 743 \nairportwest.ucavictas.org.au/…/Autumn-Winter-2019-Catalogue.pdf
URL:https://airportwest.ucavictas.org.au/event/amaras-fashion-parade-at-airport-west-uca/
LOCATION:Victoria
END:VEVENT
END:VCALENDAR