BEGIN:VCALENDAR
VERSION:2.0
PRODID:-//Airport west - ECPv6.15.20//NONSGML v1.0//EN
CALSCALE:GREGORIAN
METHOD:PUBLISH
X-WR-CALNAME:Airport west
X-ORIGINAL-URL:https://airportwest.ucavictas.org.au
X-WR-CALDESC:Events for Airport west
REFRESH-INTERVAL;VALUE=DURATION:PT1H
X-Robots-Tag:noindex
X-PUBLISHED-TTL:PT1H
BEGIN:VTIMEZONE
TZID:Australia/Melbourne
BEGIN:STANDARD
TZOFFSETFROM:+1100
TZOFFSETTO:+1000
TZNAME:AEST
DTSTART:20220402T160000
END:STANDARD
BEGIN:DAYLIGHT
TZOFFSETFROM:+1000
TZOFFSETTO:+1100
TZNAME:AEDT
DTSTART:20221001T160000
END:DAYLIGHT
BEGIN:STANDARD
TZOFFSETFROM:+1100
TZOFFSETTO:+1000
TZNAME:AEST
DTSTART:20230401T160000
END:STANDARD
BEGIN:DAYLIGHT
TZOFFSETFROM:+1000
TZOFFSETTO:+1100
TZNAME:AEDT
DTSTART:20230930T160000
END:DAYLIGHT
BEGIN:STANDARD
TZOFFSETFROM:+1100
TZOFFSETTO:+1000
TZNAME:AEST
DTSTART:20240406T160000
END:STANDARD
BEGIN:DAYLIGHT
TZOFFSETFROM:+1000
TZOFFSETTO:+1100
TZNAME:AEDT
DTSTART:20241005T160000
END:DAYLIGHT
BEGIN:STANDARD
TZOFFSETFROM:+1100
TZOFFSETTO:+1000
TZNAME:AEST
DTSTART:20250405T160000
END:STANDARD
BEGIN:DAYLIGHT
TZOFFSETFROM:+1000
TZOFFSETTO:+1100
TZNAME:AEDT
DTSTART:20251004T160000
END:DAYLIGHT
END:VTIMEZONE
BEGIN:VEVENT
DTSTART;TZID=Australia/Melbourne:20241130T100000
DTEND;TZID=Australia/Melbourne:20241130T140000
DTSTAMP:20260420T131941
CREATED:20241112T001714Z
LAST-MODIFIED:20241112T002134Z
UID:697-1732960800-1732975200@airportwest.ucavictas.org.au
SUMMARY:Christmas Market
DESCRIPTION:Saturday 30 th Nov.  10 am – 2 pm.   \nAirport West Uniting Church                       \n72 Roberts Rd\, Airport West.\n \nSomething for everyone: Craft & Knitting items\, Books\, \, Children’s Art\, Devonshire Teas\, Plants\, Sausage Sizzle  & Cakes. \n 
URL:https://airportwest.ucavictas.org.au/event/christmas-market-2/
LOCATION:Airport West Uniting Church\, 72 Roberts Rd\, Airport West\, Victoria\, 3042\, Australia
ORGANIZER;CN="Ken Baker":MAILTO:chairperson3042@gmail.com
END:VEVENT
BEGIN:VEVENT
DTSTART;TZID=Australia/Melbourne:20241027T140000
DTEND;TZID=Australia/Melbourne:20241027T170000
DTSTAMP:20260420T131941
CREATED:20240903T123858Z
LAST-MODIFIED:20240903T130630Z
UID:684-1730037600-1730048400@airportwest.ucavictas.org.au
SUMMARY:SAVOY SINGERS AT AIRPORT WEST UNITING CHURCH
DESCRIPTION:Sunday 27 th October\, 2pm. \nCCF31082024
URL:https://airportwest.ucavictas.org.au/event/savoy-singers-at-airport-west-uniting-church/
END:VEVENT
BEGIN:VEVENT
DTSTART;TZID=Australia/Melbourne:20240519T140000
DTEND;TZID=Australia/Melbourne:20240519T153000
DTSTAMP:20260420T131941
CREATED:20240423T222143Z
LAST-MODIFIED:20240424T122853Z
UID:649-1716127200-1716132600@airportwest.ucavictas.org.au
SUMMARY:COMBINED PENTECOST SERVICE
DESCRIPTION:2pm on Sunday 19 th May \nSt John’s UCA\, Essendon.
URL:https://airportwest.ucavictas.org.au/event/combined-pentecost-service/
LOCATION:St John’s UCA\, Cnr Buckley St & Mt Alexander Rd\, Essendon\, Victoria
END:VEVENT
BEGIN:VEVENT
DTSTART;TZID=Australia/Melbourne:20240519T100000
DTEND;TZID=Australia/Melbourne:20240519T113000
DTSTAMP:20260420T131941
CREATED:20240424T120943Z
LAST-MODIFIED:20240424T121237Z
UID:647-1716112800-1716118200@airportwest.ucavictas.org.au
SUMMARY:PENTECOST SUNDAY WORSHIP SERVICE
DESCRIPTION:Celebrate the birth of Christ’s Church. \n10 am on Sunday  19 th May. \n \n 
URL:https://airportwest.ucavictas.org.au/event/pentecost-sunday-worship-service/
LOCATION:Airport West Uniting Church\, 72 Roberts Rd\, Airport West\, Victoria\, 3042\, Australia
ATTACH;FMTTYPE=image/jpeg:https://airportwest.ucavictas.org.au/wp-content/uploads/2024/04/imageabove_71.jpg
ORGANIZER;CN="Ken Baker":MAILTO:chairperson3042@gmail.com
END:VEVENT
BEGIN:VEVENT
DTSTART;TZID=Australia/Melbourne:20240504T100000
DTEND;TZID=Australia/Melbourne:20240504T130000
DTSTAMP:20260420T131941
CREATED:20240424T121215Z
LAST-MODIFIED:20240424T121648Z
UID:626-1714816800-1714827600@airportwest.ucavictas.org.au
SUMMARY:Market Day
DESCRIPTION:Saturday 4 th May at our Church. \n10 am – 1 pm. \n  \n\nPlease click on link in Read More.\nAutumn Market 24 (8)\n  \n  \n 
URL:https://airportwest.ucavictas.org.au/event/market-day/
LOCATION:Airport West Uniting Church\, 72 Roberts Rd\, Airport West\, Victoria\, 3042\, Australia
ATTACH;FMTTYPE=image/jpeg:https://airportwest.ucavictas.org.au/wp-content/uploads/2024/04/14831860438_39803251a3_b1.jpg
ORGANIZER;CN="Ken Baker":MAILTO:chairperson3042@gmail.com
END:VEVENT
BEGIN:VEVENT
DTSTART;TZID=Australia/Melbourne:20240424T080000
DTEND;TZID=Australia/Melbourne:20240424T170000
DTSTAMP:20260420T131941
CREATED:20240424T115041Z
LAST-MODIFIED:20240424T115325Z
UID:644-1713945600-1713978000@airportwest.ucavictas.org.au
SUMMARY:Pentecost Services
DESCRIPTION:Sunday 19 th May 10 am at Airport West. \nSunday 19 th May 2 pm at St John’s UCA\, Essendon
URL:https://airportwest.ucavictas.org.au/event/pentecost-services/
END:VEVENT
BEGIN:VEVENT
DTSTART;TZID=Australia/Melbourne:20240331T100000
DTEND;TZID=Australia/Melbourne:20240331T120000
DTSTAMP:20260420T131941
CREATED:20240217T111010Z
LAST-MODIFIED:20240217T111201Z
UID:621-1711879200-1711886400@airportwest.ucavictas.org.au
SUMMARY:Easter Sunday Service
DESCRIPTION:The Lord has risen.    Please join with us as we celebrate Christ’s resurrection.\n \nSUNDAY 31 st March at 10 am.
URL:https://airportwest.ucavictas.org.au/event/easter-sunday-service/
LOCATION:Airport West Uniting Church\, 72 Roberts Rd\, Airport West\, Victoria\, 3042\, Australia
ATTACH;FMTTYPE=image/webp:https://airportwest.ucavictas.org.au/wp-content/uploads/2024/02/istockphoto-155360403-612x612-1.webp
ORGANIZER;CN="Ken Baker":MAILTO:chairperson3042@gmail.com
END:VEVENT
BEGIN:VEVENT
DTSTART;TZID=Australia/Melbourne:20240329T093000
DTEND;TZID=Australia/Melbourne:20240329T103000
DTSTAMP:20260420T131941
CREATED:20240217T111521Z
LAST-MODIFIED:20240217T111625Z
UID:613-1711704600-1711708200@airportwest.ucavictas.org.au
SUMMARY:Good Friday Service
DESCRIPTION:   \n9:30 am on Friday 29 th March. \nJohn 3:16 : “For God so loved the world that \nHe gave His only begotten son”.
URL:https://airportwest.ucavictas.org.au/event/good-friday-service/
LOCATION:Airport West Uniting Church\, 72 Roberts Rd\, Airport West\, Victoria\, 3042\, Australia
ATTACH;FMTTYPE=image/jpeg:https://airportwest.ucavictas.org.au/wp-content/uploads/2024/02/ChristOnTheCross_LeonBonnat-1.jpg
ORGANIZER;CN="Ken Baker":MAILTO:chairperson3042@gmail.com
END:VEVENT
BEGIN:VEVENT
DTSTART;TZID=Australia/Melbourne:20231225T090000
DTEND;TZID=Australia/Melbourne:20231225T100000
DTSTAMP:20260420T131941
CREATED:20231010T104052Z
LAST-MODIFIED:20231019T005054Z
UID:446-1703494800-1703498400@airportwest.ucavictas.org.au
SUMMARY:Christmas Day Service
DESCRIPTION:Please come and join us in Worship on this special day. \n9 am on Monday 25 th December\, at our Church.
URL:https://airportwest.ucavictas.org.au/event/christmas-day-service/
LOCATION:Airport West Uniting Church\, 72 Roberts Rd\, Airport West\, Victoria\, 3042\, Australia
ATTACH;FMTTYPE=image/jpeg:https://airportwest.ucavictas.org.au/wp-content/uploads/2023/09/istockphoto-1191901313-612x612-1.jpg
ORGANIZER;CN="Ken Baker":MAILTO:chairperson3042@gmail.com
END:VEVENT
BEGIN:VEVENT
DTSTART;TZID=Australia/Melbourne:20231213T193000
DTEND;TZID=Australia/Melbourne:20231213T203000
DTSTAMP:20260420T131941
CREATED:20231017T090021Z
LAST-MODIFIED:20231019T004640Z
UID:441-1702495800-1702499400@airportwest.ucavictas.org.au
SUMMARY:Blue Christmas Service
DESCRIPTION:7:30 pm on Wednesday 13 th December\, at our Church. \nA Service to remember loved ones who are no longer with us\, or\,  who will not be able to celebrate with us this Christmas. \nAn offering of hope to those who feel blue.
URL:https://airportwest.ucavictas.org.au/event/blue-christmas-service/
LOCATION:Airport West Uniting Church\, 72 Roberts Rd\, Airport West\, Victoria\, 3042\, Australia
ATTACH;FMTTYPE=image/jpeg:https://airportwest.ucavictas.org.au/wp-content/uploads/2022/10/blue-christmas_laura-hope-ZEno6N9U08k-unsplash-e1697522478884.jpg
END:VEVENT
BEGIN:VEVENT
DTSTART;TZID=Australia/Melbourne:20231125T100000
DTEND;TZID=Australia/Melbourne:20231125T130000
DTSTAMP:20260420T131941
CREATED:20231017T100037Z
LAST-MODIFIED:20231019T010042Z
UID:444-1700906400-1700917200@airportwest.ucavictas.org.au
SUMMARY:Christmas Market
DESCRIPTION:Saturday 25 th November \, 10 am until 1 pm\, at our Church. \nStalls\, Jams\, Spreads\, Devonshire Teas\, Cakes\, Sausage Sizzle\, Toys\, Craft\, \nKnitting\, Plants & more.
URL:https://airportwest.ucavictas.org.au/event/christmas-market/
LOCATION:Airport West Uniting Church\, 72 Roberts Rd\, Airport West\, Victoria\, 3042\, Australia
ATTACH;FMTTYPE=image/jpeg:https://airportwest.ucavictas.org.au/wp-content/uploads/2022/10/market.jpg
ORGANIZER;CN="Ken Baker":MAILTO:chairperson3042@gmail.com
END:VEVENT
BEGIN:VEVENT
DTSTART;TZID=Australia/Melbourne:20231029T100000
DTEND;TZID=Australia/Melbourne:20231029T233000
DTSTAMP:20260420T131941
CREATED:20231017T101716Z
LAST-MODIFIED:20231018T031130Z
UID:499-1698573600-1698622200@airportwest.ucavictas.org.au
SUMMARY:Worship with Art
DESCRIPTION:Church Service involving Art. \nSunday 29 th October\, 10 am at Gladstone Park Uniting Church. \nNo Worship Service at our Church on that day. \n 
URL:https://airportwest.ucavictas.org.au/event/worship-with-art/
LOCATION:Gladstone Park Uniting Church\, Cnr Carric k Dr & Elmhurst Rd\, Gladstone Park\, Victoria\, 3043\, Australia
ATTACH;FMTTYPE=image/jpeg:https://airportwest.ucavictas.org.au/wp-content/uploads/2023/10/th.jpg
ORGANIZER;CN="Ken Baker":MAILTO:chairperson3042@gmail.com
END:VEVENT
BEGIN:VEVENT
DTSTART;TZID=Australia/Melbourne:20231024T193000
DTEND;TZID=Australia/Melbourne:20231024T203000
DTSTAMP:20260420T131941
CREATED:20231019T092825Z
LAST-MODIFIED:20231019T095338Z
UID:539-1698175800-1698179400@airportwest.ucavictas.org.au
SUMMARY:PRAYER HOUR FOR THE MIDDLE EAST.
DESCRIPTION:One hour of prayer for all people who have been effected by \nthe current strife and tragedies in the Middle East. \nTuesday 24 th October \n7:30 pm to 8:30 pm.
URL:https://airportwest.ucavictas.org.au/event/prayer-hour-for-the-middle-east/
LOCATION:Airport West Uniting Church\, 72 Roberts Rd\, Airport West\, Victoria\, 3042\, Australia
ATTACH;FMTTYPE=image/webp:https://airportwest.ucavictas.org.au/wp-content/uploads/2023/10/prayer-hands-birds-flying-silhouette-prayer-hands-birds-flying-over-sunset-background-207009970.webp
ORGANIZER;CN="Ken Baker":MAILTO:chairperson3042@gmail.com
END:VEVENT
END:VCALENDAR